BEGIN:VCALENDAR
PRODID:-//MatrixMaxx//RemoteApi//EN
VERSION:2.0
METHOD:PUBLISH
CALSCALE:GREGORIAN
X-ORIGINAL-URL:http://www.awpa.org/forms/meeting/Microsite/mbrinfo
BEGIN:VEVENT
SUMMARY:Membership Webinar - Cancelled
LAST-MODIFIED:20240605T180000Z
UID:ci_133D970000003B@matrixgroup.net
CLASS:PUBLIC
CREATED:20240605T180000Z
DTSTAMP:20240605T180000Z
DTSTART:20240605T180000Z
X-FUNAMBOL-ALLDAY:1
LOCATION:
DESCRIPTION:For+full+info+see+http%3A%2F%2Fwww.awpa.org%2Fforms%2Fmeeting%2FMicrosite%2Fmbrinfo%0AJoin+us+to+discuss+the+benefits+of+AWPA+membership.+
X-WR-CALDESC:For+full+info+see+http%3A%2F%2Fwww.awpa.org%2Fforms%2Fmeeting%2FMicrosite%2Fmbrinfo%0AJoin+us+to+discuss+the+benefits+of+AWPA+membership.+
X-WR-CALNAME:Maxx Calendar
DTEND:20240605T183000Z
URL:http://www.awpa.org/forms/meeting/Microsite/mbrinfo
END:VEVENT
END:VCALENDAR