BEGIN:VCALENDAR
PRODID:-//MatrixMaxx//RemoteApi//EN
VERSION:2.0
METHOD:PUBLISH
CALSCALE:GREGORIAN
X-ORIGINAL-URL:http://www.awpa.org/forms/meeting/Microsite/GAC25
BEGIN:VEVENT
SUMMARY:2025 Government Affairs Conference
LAST-MODIFIED:20250917
UID:ci_20EA7200000001@matrixgroup.net
CLASS:PUBLIC
CREATED:20250917
DTSTAMP:20250917
DTSTART:20250917
X-FUNAMBOL-ALLDAY:1
LOCATION:Royal+Sonesta+Capitol+Hill
DESCRIPTION:For+full+info+see+http%3A%2F%2Fwww.awpa.org%2Fforms%2Fmeeting%2FMicrosite%2FGAC25%0A
X-WR-CALDESC:For+full+info+see+http%3A%2F%2Fwww.awpa.org%2Fforms%2Fmeeting%2FMicrosite%2FGAC25%0A
X-WR-CALNAME:Maxx Calendar
DTEND:20250920
URL:http://www.awpa.org/forms/meeting/Microsite/GAC25
END:VEVENT
END:VCALENDAR