BEGIN:VCALENDAR
PRODID:-//MatrixMaxx//RemoteApi//EN
VERSION:2.0
METHOD:PUBLISH
CALSCALE:GREGORIAN
X-ORIGINAL-URL:http://www.awpa.org/forms/meeting/Microsite/AM26
BEGIN:VEVENT
SUMMARY:2026 Annual Meeting
LAST-MODIFIED:20260302
UID:ci_2D622300000001@matrixgroup.net
CLASS:PUBLIC
CREATED:20260302
DTSTAMP:20260302
DTSTART:20260302
X-FUNAMBOL-ALLDAY:1
LOCATION:PGA+National+Resort
DESCRIPTION:For+full+info+see+http%3A%2F%2Fwww.awpa.org%2Fforms%2Fmeeting%2FMicrosite%2FAM26%0A
X-WR-CALDESC:For+full+info+see+http%3A%2F%2Fwww.awpa.org%2Fforms%2Fmeeting%2FMicrosite%2FAM26%0A
X-WR-CALNAME:Maxx Calendar
DTEND:20260305
URL:http://www.awpa.org/forms/meeting/Microsite/AM26
END:VEVENT
END:VCALENDAR