BEGIN:VCALENDAR
PRODID:-//MatrixMaxx//RemoteApi//EN
VERSION:2.0
METHOD:PUBLISH
CALSCALE:GREGORIAN
X-ORIGINAL-URL:http://www.awpa.org/forms/meeting/Microsite/2015GAC
BEGIN:VEVENT
SUMMARY:AWPA 2015 Government Affairs Conference
LAST-MODIFIED:20150916T180000Z
UID:ci_32100000037@matrixgroup.net
CLASS:PUBLIC
CREATED:20150916T180000Z
DTSTAMP:20150916T180000Z
DTSTART:20150916T180000Z
X-FUNAMBOL-ALLDAY:1
LOCATION:Hyatt+Regency+Washington+on+Capitol+Hill
DESCRIPTION:For+full+info+see+http%3A%2F%2Fwww.awpa.org%2Fforms%2Fmeeting%2FMicrosite%2F2015GAC%0ACome+back+to+the+AWPA+website+to+see+who+else+has+registered+for+the+meeting.+The+list+updates+every+night.+
X-WR-CALDESC:For+full+info+see+http%3A%2F%2Fwww.awpa.org%2Fforms%2Fmeeting%2FMicrosite%2F2015GAC%0ACome+back+to+the+AWPA+website+to+see+who+else+has+registered+for+the+meeting.+The+list+updates+every+night.+
X-WR-CALNAME:Maxx Calendar
DTEND:20150918T173000Z
URL:http://www.awpa.org/forms/meeting/Microsite/2015GAC
END:VEVENT
END:VCALENDAR