BEGIN:VCALENDAR
PRODID:-//MatrixMaxx//RemoteApi//EN
VERSION:2.0
METHOD:PUBLISH
CALSCALE:GREGORIAN
X-ORIGINAL-URL:http://www.awpa.org/forms/meeting/Microsite/2015OPS
BEGIN:VEVENT
SUMMARY:AWPA 2015 Operations Managers Meeting
LAST-MODIFIED:20151021
UID:ci_3260000008B@matrixgroup.net
CLASS:PUBLIC
CREATED:20151021
DTSTAMP:20151021
DTSTART:20151021
X-FUNAMBOL-ALLDAY:1
LOCATION:Hotel+Preston
DESCRIPTION:For+full+info+see+http%3A%2F%2Fwww.awpa.org%2Fforms%2Fmeeting%2FMicrosite%2F2015OPS%0AThis+meeting+is+being+held+at+the+Hotel+Preston%3A%0D%0A733+Briley+Parkway%0D%0ANashville%2C+TN+37217%0D%0A615.361.5900%0D%0APlease+sign+in+and+pick+up+materials+at+the+registration+desk+between+9+am+amd+1+pm.+The+general+session+begins+at+1+pm.+
X-WR-CALDESC:For+full+info+see+http%3A%2F%2Fwww.awpa.org%2Fforms%2Fmeeting%2FMicrosite%2F2015OPS%0AThis+meeting+is+being+held+at+the+Hotel+Preston%3A%0D%0A733+Briley+Parkway%0D%0ANashville%2C+TN+37217%0D%0A615.361.5900%0D%0APlease+sign+in+and+pick+up+materials+at+the+registration+desk+between+9+am+amd+1+pm.+The+general+session+begins+at+1+pm.+
X-WR-CALNAME:Maxx Calendar
DTEND:20151023
URL:http://www.awpa.org/forms/meeting/Microsite/2015OPS
END:VEVENT
END:VCALENDAR