BEGIN:VCALENDAR
PRODID:-//MatrixMaxx//RemoteApi//EN
VERSION:2.0
METHOD:PUBLISH
CALSCALE:GREGORIAN
X-ORIGINAL-URL:http://www.awpa.org/forms/meeting/Microsite/OPS19
BEGIN:VEVENT
SUMMARY:2019 Operations Managers Meeting
LAST-MODIFIED:20191015T140000Z
UID:ci_54BB300000001@matrixgroup.net
CLASS:PUBLIC
CREATED:20191015T140000Z
DTSTAMP:20191015T140000Z
DTSTART:20191015T140000Z
X-FUNAMBOL-ALLDAY:1
LOCATION:
DESCRIPTION:For full info see http://www.awpa.org/forms/meeting/Microsite/OPS19\nDoubletree by Hilton – Perimeter Park\n8 Perimeter Park S\nBirmingham, AL 35243\n205.967.2700
DTEND:20191016T190000Z
URL:http://www.awpa.org/forms/meeting/Microsite/OPS19
END:VEVENT
END:VCALENDAR