BEGIN:VCALENDAR
PRODID:-//MatrixMaxx//RemoteApi//EN
VERSION:2.0
METHOD:PUBLISH
CALSCALE:GREGORIAN
X-ORIGINAL-URL:http://www.awpa.org/forms/meeting/Microsite/AM21
BEGIN:VEVENT
SUMMARY:2021 Annual Meeting - Cancelled
LAST-MODIFIED:20210222
UID:ci_5AC1000000040@matrixgroup.net
CLASS:PUBLIC
CREATED:20210222
DTSTAMP:20210222
DTSTART:20210222
X-FUNAMBOL-ALLDAY:1
LOCATION:Vinoy+Renaissance+Hotel
DESCRIPTION:For+full+info+see+http%3A%2F%2Fwww.awpa.org%2Fforms%2Fmeeting%2FMicrosite%2FAM21%0A
X-WR-CALDESC:For+full+info+see+http%3A%2F%2Fwww.awpa.org%2Fforms%2Fmeeting%2FMicrosite%2FAM21%0A
X-WR-CALNAME:Maxx Calendar
DTEND:20210225
URL:http://www.awpa.org/forms/meeting/Microsite/AM21
END:VEVENT
END:VCALENDAR