BEGIN:VCALENDAR
PRODID:-//MatrixMaxx//RemoteApi//EN
VERSION:2.0
METHOD:PUBLISH
CALSCALE:GREGORIAN
X-ORIGINAL-URL:http://www.awpa.org/forms/meeting/Microsite/2016OPS
BEGIN:VEVENT
SUMMARY:2016 Operations Managers Meeting
LAST-MODIFIED:20160928T130000Z
UID:ci_799E000000F0@matrixgroup.net
CLASS:PUBLIC
CREATED:20160928T130000Z
DTSTAMP:20160928T130000Z
DTSTART:20160928T130000Z
X-FUNAMBOL-ALLDAY:1
LOCATION:Sheraton+Charlotte+Airport+Hotel
DESCRIPTION:For+full+info+see+http%3A%2F%2Fwww.awpa.org%2Fforms%2Fmeeting%2FMicrosite%2F2016OPS%0AThis+meeting+is+being+held+at+the+Sheraton+Charlotte+Airport+Hotel%3A%0D%0A3315+Scott+Futrell+Dr%0D%0ACharlotte%2C+NC+28208%0D%0A704-392-1200%0D%0APlease+sign+in+and+pick+up+materials+at+the+registration+desk+between+9+am+%26+1+pm.+The+General+Session+begins+at+1+pm.+
X-WR-CALDESC:For+full+info+see+http%3A%2F%2Fwww.awpa.org%2Fforms%2Fmeeting%2FMicrosite%2F2016OPS%0AThis+meeting+is+being+held+at+the+Sheraton+Charlotte+Airport+Hotel%3A%0D%0A3315+Scott+Futrell+Dr%0D%0ACharlotte%2C+NC+28208%0D%0A704-392-1200%0D%0APlease+sign+in+and+pick+up+materials+at+the+registration+desk+between+9+am+%26+1+pm.+The+General+Session+begins+at+1+pm.+
X-WR-CALNAME:Maxx Calendar
DTEND:20160929T180000Z
URL:http://www.awpa.org/forms/meeting/Microsite/2016OPS
END:VEVENT
END:VCALENDAR