BEGIN:VCALENDAR
PRODID:-//MatrixMaxx//RemoteApi//EN
VERSION:2.0
METHOD:PUBLISH
CALSCALE:GREGORIAN
X-ORIGINAL-URL:http://www.awpa.org/forms/meeting/Microsite/AM18
BEGIN:VEVENT
SUMMARY:2018 Annual Meeting
LAST-MODIFIED:20180218
UID:ci_BD4F0000022A@matrixgroup.net
CLASS:PUBLIC
CREATED:20180218
DTSTAMP:20180218
DTSTART:20180218
X-FUNAMBOL-ALLDAY:1
LOCATION:Westin+Mission+Hills+Resort+%26+Spa
DESCRIPTION:For+full+info+see+http%3A%2F%2Fwww.awpa.org%2Fforms%2Fmeeting%2FMicrosite%2FAM18%0A
X-WR-CALDESC:For+full+info+see+http%3A%2F%2Fwww.awpa.org%2Fforms%2Fmeeting%2FMicrosite%2FAM18%0A
X-WR-CALNAME:Maxx Calendar
DTEND:20180222
URL:http://www.awpa.org/forms/meeting/Microsite/AM18
END:VEVENT
END:VCALENDAR