BEGIN:VCALENDAR
PRODID:-//MatrixMaxx//RemoteApi//EN
VERSION:2.0
METHOD:PUBLISH
CALSCALE:GREGORIAN
X-ORIGINAL-URL:http://www.awpa.org/forms/meeting/Microsite/BAI23
BEGIN:VEVENT
SUMMARY:Breakfast at Interwire
LAST-MODIFIED:20230510T120000Z
UID:ci_D167900000030@matrixgroup.net
CLASS:PUBLIC
CREATED:20230510T120000Z
DTSTAMP:20230510T120000Z
DTSTART:20230510T120000Z
X-FUNAMBOL-ALLDAY:1
LOCATION:Georgia+World+Congress+Center
DESCRIPTION:For full info see http://www.awpa.org/forms/meeting/Microsite/BAI23\nAWPA Breakfast at Interwire is back in 2023! \nMay 10, 7:30 am - 9:30 am\nGeorgia World Congress Center Room A313, near the Interwire registration center. 
DTEND:20230510T133000Z
URL:http://www.awpa.org/forms/meeting/Microsite/BAI23
END:VEVENT
END:VCALENDAR