BEGIN:VCALENDAR
PRODID:-//MatrixMaxx//RemoteApi//EN
VERSION:2.0
METHOD:PUBLISH
CALSCALE:GREGORIAN
X-ORIGINAL-URL:http://www.awpa.org/forms/meeting/Microsite/GR23Issues
BEGIN:VEVENT
SUMMARY:AWPA Policy Issues Briefing
LAST-MODIFIED:20230829T150000Z
UID:ci_D91E500000232@matrixgroup.net
CLASS:PUBLIC
CREATED:20230829T150000Z
DTSTAMP:20230829T150000Z
DTSTART:20230829T150000Z
X-FUNAMBOL-ALLDAY:1
LOCATION:Zoom+Call
DESCRIPTION:For+full+info+see+http%3A%2F%2Fwww.awpa.org%2Fforms%2Fmeeting%2FMicrosite%2FGR23Issues%0A
X-WR-CALDESC:For+full+info+see+http%3A%2F%2Fwww.awpa.org%2Fforms%2Fmeeting%2FMicrosite%2FGR23Issues%0A
X-WR-CALNAME:Maxx Calendar
DTEND:20230829T160000Z
URL:http://www.awpa.org/forms/meeting/Microsite/GR23Issues
END:VEVENT
END:VCALENDAR