BEGIN:VCALENDAR
PRODID:-//MatrixMaxx//RemoteApi//EN
VERSION:2.0
METHOD:PUBLISH
CALSCALE:GREGORIAN
X-ORIGINAL-URL:http://www.awpa.org/forms/meeting/Microsite/GAC23LOG
BEGIN:VEVENT
SUMMARY:Congressional Visits Logistics Briefing
LAST-MODIFIED:20230912T193000Z
UID:ci_D923000000064@matrixgroup.net
CLASS:PUBLIC
CREATED:20230912T193000Z
DTSTAMP:20230912T193000Z
DTSTART:20230912T193000Z
X-FUNAMBOL-ALLDAY:1
LOCATION:
DESCRIPTION:For full info see http://www.awpa.org/forms/meeting/Microsite/GAC23LOG\n
DTEND:20230913
URL:http://www.awpa.org/forms/meeting/Microsite/GAC23LOG
END:VEVENT
END:VCALENDAR